BEGIN:VCALENDAR
VERSION:2.0
CALSCALE:GREGORIAN
PRODID:-//Diputació de Barcelona//DibaCMS//EN
BEGIN:VEVENT
UID:2671
DTSTAMP:20260422T104722
DTSTART:20180310T000000
DTEND:20180310T000000
SUMMARY:FESTA DEL CONTRIBUENT 2018 - BALL DEL CONTRIBUENT
LOCATION:
METHOD:PUBLISH
X-WR-CALNAME:info.pont@elpont.cat
X-WR-TIMEZONE:Europe/Madrid
DESCRIPTION:Amb l'Orquestra Costa Brava
URI:https://www.elpont.cat/actualitat/agenda/festa-del-contribuent-2018-ball-del-contribuent.html
CLASS:PUBLIC
END:VEVENT
END:VCALENDAR
