BEGIN:VCALENDAR
VERSION:2.0
CALSCALE:GREGORIAN
PRODID:-//Diputació de Barcelona//DibaCMS//EN
BEGIN:VEVENT
UID:2674
DTSTAMP:20260422T164053
DTSTART:20180310T000000
DTEND:20180310T000000
SUMMARY:FESTA DEL CONTRIBUENT 2018 - IV TROBADA DE PENYES DEL PONT DE VILOMARA
LOCATION:
METHOD:PUBLISH
X-WR-CALNAME:info.pont@elpont.cat
X-WR-TIMEZONE:Europe/Madrid
DESCRIPTION:Concurs de Paelles per Penyes. Hi haurà un obsequi per a la penya guanyadora.
 
Els que no vulguin participar al concurs es podran portar el dinar de casa.
 
Hi haurà inflable Gran Kids, circuit de segways i classe de zumba.
 
Desprès de dinar PenyiBingo (obert a tothom)
URI:https://www.elpont.cat/actualitat/agenda/festa-del-contribuent-2018-iv-trobada-de-penyes-del-pont-de-vilomara.html
CLASS:PUBLIC
END:VEVENT
END:VCALENDAR
