BEGIN:VCALENDAR
VERSION:2.0
CALSCALE:GREGORIAN
PRODID:-//Diputació de Barcelona//DibaCMS//EN
BEGIN:VEVENT
UID:2675
DTSTAMP:20260422T123135
DTSTART:20180310T000000
DTEND:20180310T000000
SUMMARY:FESTA DEL CONTRIBUENT 2018 - TALLER INFANTIL &quot;PINTEM CERÀMICA AMB PIGMENTS NATURALS&quot;
LOCATION:
METHOD:PUBLISH
X-WR-CALNAME:info.pont@elpont.cat
X-WR-TIMEZONE:Europe/Madrid
DESCRIPTION:A càrrec de Clàudia Mateo i estefania Santacreu.
URI:https://www.elpont.cat/actualitat/agenda/2675-festa-del-contribuent-2018-taller-infantil-andquotpintem-ceramica-amb-pigments-naturalsandquot.html
CLASS:PUBLIC
END:VEVENT
END:VCALENDAR
