BEGIN:VCALENDAR
VERSION:2.0
CALSCALE:GREGORIAN
PRODID:-//Diputació de Barcelona//DibaCMS//EN
BEGIN:VEVENT
UID:2677
DTSTAMP:20260422T124137
DTSTART:20180311T000000
DTEND:20180311T000000
SUMMARY:FESTA DEL CONTRIBUENT 2018 - ARRIBADA DEL RECAPTADOR, CERCAVILA I SORTEIG DEL CONTRIBUENT
LOCATION:
METHOD:PUBLISH
X-WR-CALNAME:info.pont@elpont.cat
X-WR-TIMEZONE:Europe/Madrid
DESCRIPTION:Cercavila amb la Batukada Shangó, envolada de bitllets i caramels.
 
Actuació de The Band A Banda (alumnes de l'escola de música Pompeu Fabra).
URI:https://www.elpont.cat/actualitat/agenda/festa-del-contribuent-2018-arribada-del-recaptador-cercavila-i-sorteig-del-contribuent.html
CLASS:PUBLIC
END:VEVENT
END:VCALENDAR
