BEGIN:VCALENDAR
VERSION:2.0
CALSCALE:GREGORIAN
PRODID:-//Diputació de Barcelona//DibaCMS//EN
BEGIN:VEVENT
UID:2678
DTSTAMP:20260423T001657
DTSTART:20180311T000000
DTEND:20180311T000000
SUMMARY:FESTA DEL CONTRIBUENT 2018 - ENCIERRO PAMPLONICA
LOCATION:
METHOD:PUBLISH
X-WR-CALNAME:info.pont@elpont.cat
X-WR-TIMEZONE:Europe/Madrid
DESCRIPTION:Per a petits i grans.
 
Es recomana anar vestit de blanc amb mocador vermell al coll.
URI:https://www.elpont.cat/actualitat/agenda/festa-del-contribuent-2018-encierro-pamplonica.html
CLASS:PUBLIC
END:VEVENT
END:VCALENDAR
