BEGIN:VCALENDAR
VERSION:2.0
CALSCALE:GREGORIAN
PRODID:-//Diputació de Barcelona//DibaCMS//EN
BEGIN:VEVENT
UID:2681
DTSTAMP:20260422T224839
DTSTART:20180312T000000
DTEND:20180312T000000
SUMMARY:FESTA DEL CONTRIBUENT 2018 - EL PETIT LILO
LOCATION:
METHOD:PUBLISH
X-WR-CALNAME:info.pont@elpont.cat
X-WR-TIMEZONE:Europe/Madrid
DESCRIPTION:Recorregut pels carrers del poble amb el Petit Lilo, una titella de 5 metres, acompanyada de joguines gegants, carro de bombolles i música.
URI:https://www.elpont.cat/actualitat/agenda/festa-del-contribuent-2018-el-petit-lilo.html
CLASS:PUBLIC
END:VEVENT
END:VCALENDAR
