BEGIN:VCALENDAR
VERSION:2.0
CALSCALE:GREGORIAN
PRODID:-//Diputació de Barcelona//DibaCMS//EN
BEGIN:VEVENT
UID:2682
DTSTAMP:20260423T040900
DTSTART:20180314T000000
DTEND:20180314T000000
SUMMARY:DIA INTERNACIONAL DE LA DONA TREBALLADORA - TALLER &quot;VISCA LES BRUIXES&quot;
LOCATION:
METHOD:PUBLISH
X-WR-CALNAME:info.pont@elpont.cat
X-WR-TIMEZONE:Europe/Madrid
DESCRIPTION:Taller vivencial per a persones adultes on a partir de jocs, vídeos i dinàmiques participatives, parlarem sobre qui van ser realment les bruixes, el motiu de la seva persecució i les seves homòlogues en l’actualitat, com a exercici de memòria històrica.
 
El taller conclourà amb la creació col·lectiva d’un mural creatiu.
URI:https://www.elpont.cat/actualitat/agenda/dia-internacional-de-la-dona-treballadora-taller-andquotvisca-les-bruixesandquot.html
CLASS:PUBLIC
END:VEVENT
END:VCALENDAR
