BEGIN:VCALENDAR
VERSION:2.0
CALSCALE:GREGORIAN
PRODID:-//Diputació de Barcelona//DibaCMS//EN
BEGIN:VEVENT
UID:2684
DTSTAMP:20260423T002008
DTSTART:20180316T000000
DTEND:20180316T000000
SUMMARY:DIA INTERNACIONAL DE LA DONA TREBALLADORA - III SOPAR DE DONES DEL PONT DE VILOMARA I ROCAFORT
LOCATION:
METHOD:PUBLISH
X-WR-CALNAME:info.pont@elpont.cat
X-WR-TIMEZONE:Europe/Madrid
DESCRIPTION:Després del sopar hi haurà l’actuació d’Aquell Parell d’Autoput.
 
URI:https://www.elpont.cat/actualitat/agenda/dia-internacional-de-la-dona-treballadora-iii-sopar-de-dones-del-pont-de-vilomara-i-rocafort.html
CLASS:PUBLIC
END:VEVENT
END:VCALENDAR
