BEGIN:VCALENDAR
VERSION:2.0
CALSCALE:GREGORIAN
PRODID:-//Diputació de Barcelona//DibaCMS//EN
BEGIN:VEVENT
UID:2685
DTSTAMP:20260423T052619
DTSTART:20180317T000000
DTEND:20180317T000000
SUMMARY:FESTA DEL CONTRIBUENT 2018 - TALLER FAMILIAR DE CUINA ORIENTAL
LOCATION:
METHOD:PUBLISH
X-WR-CALNAME:info.pont@elpont.cat
X-WR-TIMEZONE:Europe/Madrid
DESCRIPTION:A càrrec d'Helena Costa
URI:https://www.elpont.cat/actualitat/agenda/festa-del-contribuent-2018-taller-familiar-de-cuina-oriental.html
CLASS:PUBLIC
END:VEVENT
END:VCALENDAR
