BEGIN:VCALENDAR
VERSION:2.0
CALSCALE:GREGORIAN
PRODID:-//Diputació de Barcelona//DibaCMS//EN
BEGIN:VEVENT
UID:2686
DTSTAMP:20260422T180220
DTSTART:20180318T000000
DTEND:20180318T000000
SUMMARY:DESENA CAMINADA POPULAR &quot;EL TUC&quot;
LOCATION:
METHOD:PUBLISH
X-WR-CALNAME:info.pont@elpont.cat
X-WR-TIMEZONE:Europe/Madrid
DESCRIPTION:La caminada la podeu fer amb el vostre gos o traient a un gos del nostre refugi, que ujs estarà molt agraït.
 
En acabar gaudirem d'un aperitiu de cloenda.
URI:https://www.elpont.cat/actualitat/agenda/desena-caminada-popular-andquotel-tucandquot.html
CLASS:PUBLIC
END:VEVENT
END:VCALENDAR
