BEGIN:VCALENDAR
VERSION:2.0
CALSCALE:GREGORIAN
PRODID:-//Diputació de Barcelona//DibaCMS//EN
BEGIN:VEVENT
UID:2688
DTSTAMP:20260422T225904
DTSTART:20180403T000000
DTEND:20180413T000000
SUMMARY:INSCRIPCIONS PER A LA SORTIDA DEL DIA DE LA DONA
LOCATION:
METHOD:PUBLISH
X-WR-CALNAME:info.pont@elpont.cat
X-WR-TIMEZONE:Europe/Madrid
DESCRIPTION:Diade la sortida encara pendent de concretar
URI:https://www.elpont.cat/actualitat/agenda/inscripcions-per-a-la-sortida-del-dia-de-la-dona.html
CLASS:PUBLIC
END:VEVENT
END:VCALENDAR
