BEGIN:VCALENDAR
VERSION:2.0
CALSCALE:GREGORIAN
PRODID:-//Diputació de Barcelona//DibaCMS//EN
BEGIN:VEVENT
UID:2689
DTSTAMP:20260422T201145
DTSTART:20180404T000000
DTEND:20180430T000000
SUMMARY:EXPOSICIÓ DE JOGUINES DE CARTRÓ
LOCATION:
METHOD:PUBLISH
X-WR-CALNAME:info.pont@elpont.cat
X-WR-TIMEZONE:Europe/Madrid
DESCRIPTION:Del 4 al 30 d'abril trobareu a la sala infantil una exposició de joguines de cartró fetes a mà pel vilomarenc Juan León.
URI:https://www.elpont.cat/actualitat/agenda/exposicio-de-joguines-de-cartro.html
CLASS:PUBLIC
END:VEVENT
END:VCALENDAR
