BEGIN:VCALENDAR
VERSION:2.0
CALSCALE:GREGORIAN
PRODID:-//Diputació de Barcelona//DibaCMS//EN
BEGIN:VEVENT
UID:2691
DTSTAMP:20260423T005612
DTSTART:20180405T000000
DTEND:20180405T000000
SUMMARY:PROGRAMA GENT GRAN ACTIVA &quot;BALL AMB JORDI&quot;
LOCATION:
METHOD:PUBLISH
X-WR-CALNAME:info.pont@elpont.cat
X-WR-TIMEZONE:Europe/Madrid
DESCRIPTION:
URI:https://www.elpont.cat/actualitat/agenda/2691-programa-gent-gran-activa-andquotball-amb-jordiandquot.html
CLASS:PUBLIC
END:VEVENT
END:VCALENDAR
