BEGIN:VCALENDAR
VERSION:2.0
CALSCALE:GREGORIAN
PRODID:-//Diputació de Barcelona//DibaCMS//EN
BEGIN:VEVENT
UID:2692
DTSTAMP:20260422T212336
DTSTART:20180406T000000
DTEND:20180413T000000
SUMMARY:SETMANA MUNDIAL DE L'ESPORT
LOCATION:
METHOD:PUBLISH
X-WR-CALNAME:info.pont@elpont.cat
X-WR-TIMEZONE:Europe/Madrid
DESCRIPTION:Portes Obertes a la Sala Polivalent.
 
Matrícula Gratuïta per als nous abonats.
 
Prova les diferents activitats que es realitzen durant tota la setmana !!!!
URI:https://www.elpont.cat/actualitat/agenda/2692-setmana-mundial-de-lesport.html
CLASS:PUBLIC
END:VEVENT
END:VCALENDAR
