BEGIN:VCALENDAR
VERSION:2.0
CALSCALE:GREGORIAN
PRODID:-//Diputació de Barcelona//DibaCMS//EN
BEGIN:VEVENT
UID:2693
DTSTAMP:20260422T201230
DTSTART:20180407T000000
DTEND:20180407T000000
SUMMARY:TALLER D'INICIACIÓ ALS ESCACS
LOCATION:
METHOD:PUBLISH
X-WR-CALNAME:info.pont@elpont.cat
X-WR-TIMEZONE:Europe/Madrid
DESCRIPTION:Taller d'introducció al món dels escacs.
 
El taller anirà a càrrec de Guerau Orús i va dirigit tant a infants com adults que vulguin conèixer els principis bàsics d'aquest joc de taula!
 
Aquesta activitat es realitza en col·laboració amb la biblioteca de Vacarisses
URI:https://www.elpont.cat/actualitat/agenda/taller-diniciacio-als-escacs.html
CLASS:PUBLIC
END:VEVENT
END:VCALENDAR
