BEGIN:VCALENDAR
VERSION:2.0
CALSCALE:GREGORIAN
PRODID:-//Diputació de Barcelona//DibaCMS//EN
BEGIN:VEVENT
UID:2694
DTSTAMP:20260422T213030
DTSTART:20180411T000000
DTEND:20180418T000000
SUMMARY:TALLER DE CIRC
LOCATION:
METHOD:PUBLISH
X-WR-CALNAME:info.pont@elpont.cat
X-WR-TIMEZONE:Europe/Madrid
DESCRIPTION:Vols aprendre tècniques de circ?
 
Vine al taller i aprendràs a fer malabars, equilibris sobre objectes,…
 
Dimecres 11 i 18 d'abril, de 6:15 a les 8 de la tarda
 
Taller per a infants d'entre 8 i 10 anys.
URI:https://www.elpont.cat/actualitat/agenda/taller-de-circ.html
CLASS:PUBLIC
END:VEVENT
END:VCALENDAR
