BEGIN:VCALENDAR
VERSION:2.0
CALSCALE:GREGORIAN
PRODID:-//Diputació de Barcelona//DibaCMS//EN
BEGIN:VEVENT
UID:2695
DTSTAMP:20260422T185454
DTSTART:20180411T000000
DTEND:20180411T000000
SUMMARY:TALLER D'ESTAMPACIÓ TÈXTIL
LOCATION:
METHOD:PUBLISH
X-WR-CALNAME:info.pont@elpont.cat
X-WR-TIMEZONE:Europe/Madrid
DESCRIPTION:Taller d'estampació tèxtil a càrrec de l'Associació Blanc de Guix.
 
L'activitat s'adreça a joves i adults.
URI:https://www.elpont.cat/actualitat/agenda/taller-destampacio-textil.html
CLASS:PUBLIC
END:VEVENT
END:VCALENDAR
