BEGIN:VCALENDAR
VERSION:2.0
CALSCALE:GREGORIAN
PRODID:-//Diputació de Barcelona//DibaCMS//EN
BEGIN:VEVENT
UID:2696
DTSTAMP:20260422T215420
DTSTART:20180417T000000
DTEND:20180417T000000
SUMMARY:XERRADA - TALLER &quot;QUI T'ENTENGUI QUE ET COMPRI&quot;
LOCATION:
METHOD:PUBLISH
X-WR-CALNAME:info.pont@elpont.cat
X-WR-TIMEZONE:Europe/Madrid
DESCRIPTION:CREUS QUE PARLES PER LES PARETS?
 
NO TROBES LA MANERA D'ENTENDRE'T AMB EL TEU FILL/A?
 
PER QUÈ ÉS AIXÍ ARA?
 
Taller de dinàmiques vivencials amb espais de reflexió personal i posades en comú, amb propostes concretes de canvi aplicables a la realitat familiar i educativa.
 
Activitat oberta a totes les famílies, sobretot aquelles amb fills d'entre 12 i 18 anys!
 
Xerrada a càrrec de Núria Grases, Professora de Batxillerat, formadora en Educació Emocional i Coach.
URI:https://www.elpont.cat/actualitat/agenda/xerrada-taller-andquotqui-tentengui-que-et-compriandquot.html
CLASS:PUBLIC
END:VEVENT
END:VCALENDAR
