BEGIN:VCALENDAR
VERSION:2.0
CALSCALE:GREGORIAN
PRODID:-//Diputació de Barcelona//DibaCMS//EN
BEGIN:VEVENT
UID:2697
DTSTAMP:20260422T123000
DTSTART:20180418T000000
DTEND:20180418T000000
SUMMARY:PROGRAMA GENT GRAN ACTIVA &quot;TALLER D'AUTOPROTECCIÓ FINANCERA&quot;
LOCATION:
METHOD:PUBLISH
X-WR-CALNAME:info.pont@elpont.cat
X-WR-TIMEZONE:Europe/Madrid
DESCRIPTION:Consells per evitar estafes, enganys .... i per garantir major seguretat en les compres, serveis que es contracten, ....
 
Activitat inclosa dins la campanya "Tracta'm bé"
URI:https://www.elpont.cat/actualitat/agenda/programa-gent-gran-activa-andquottaller-dautoproteccio-financeraandquot.html
CLASS:PUBLIC
END:VEVENT
END:VCALENDAR
