BEGIN:VCALENDAR
VERSION:2.0
CALSCALE:GREGORIAN
PRODID:-//Diputació de Barcelona//DibaCMS//EN
BEGIN:VEVENT
UID:2699
DTSTAMP:20260423T053401
DTSTART:20180421T000000
DTEND:20180421T000000
SUMMARY:FESTA PASSAPORT ANIMAL
LOCATION:
METHOD:PUBLISH
X-WR-CALNAME:info.pont@elpont.cat
X-WR-TIMEZONE:Europe/Madrid
DESCRIPTION:Taller d'slime a càrrec de El Taller del Bosc!!
 
Esmorzar!!
 
Sorteig entre tots els participants!!
 
Festa exclusiva per a tots aquells infants que han participat i completat el passaport animal!
URI:https://www.elpont.cat/actualitat/agenda/festa-passaport-animal.html
CLASS:PUBLIC
END:VEVENT
END:VCALENDAR
