BEGIN:VCALENDAR
VERSION:2.0
CALSCALE:GREGORIAN
PRODID:-//Diputació de Barcelona//DibaCMS//EN
BEGIN:VEVENT
UID:2700
DTSTAMP:20260422T135018
DTSTART:20180422T000000
DTEND:20180422T000000
SUMMARY:XIV FESTA VIU EL PARC - CAMINADA POPULAR VIU EL PARC
LOCATION:
METHOD:PUBLISH
X-WR-CALNAME:info.pont@elpont.cat
X-WR-TIMEZONE:Europe/Madrid
DESCRIPTION:A les 8 del mati caminada llarga 20 km. Sortida des de l'Ajuntament
 
Recorregut: El Pont de Vilomara - Casa Nova de Sant Jaume - Hostalets del Davi - Sant Jaume de Vallhonesta i El Pont de Vilomara
 
A les 10 del mati, caminada curta 5 km. Sortida des de l'Ajuntament
 
Recorregut: El Pont de Vilomara - Casa Nova - El Pont de Vilomara
 
Hi haurà punts d'avituallament d'aigua.
 
L' entrepà s'haurà de portar de casa.
 
En el punt d'arribada hi haurà un obsequi.
URI:https://www.elpont.cat/actualitat/agenda/xiv-festa-viu-el-parc-caminada-popular-viu-el-parc.html
CLASS:PUBLIC
END:VEVENT
END:VCALENDAR
