BEGIN:VCALENDAR
VERSION:2.0
CALSCALE:GREGORIAN
PRODID:-//Diputació de Barcelona//DibaCMS//EN
BEGIN:VEVENT
UID:2701
DTSTAMP:20260422T133532
DTSTART:20180423T000000
DTEND:20180423T000000
SUMMARY:SISENA MARATÓ DE CONTES DE SANT JORDI
LOCATION:
METHOD:PUBLISH
X-WR-CALNAME:info.pont@elpont.cat
X-WR-TIMEZONE:Europe/Madrid
DESCRIPTION:
URI:https://www.elpont.cat/actualitat/agenda/2701-sisena-marato-de-contes-de-sant-jordi.html
CLASS:PUBLIC
END:VEVENT
END:VCALENDAR
