BEGIN:VCALENDAR
VERSION:2.0
CALSCALE:GREGORIAN
PRODID:-//Diputació de Barcelona//DibaCMS//EN
BEGIN:VEVENT
UID:2702
DTSTAMP:20260422T163747
DTSTART:20180423T000000
DTEND:20180423T000000
SUMMARY:FESTA MAJOR DE MAIG DE ROCAFORT DE BAGES - SANT JORDI
LOCATION:
METHOD:PUBLISH
X-WR-CALNAME:info.pont@elpont.cat
X-WR-TIMEZONE:Europe/Madrid
DESCRIPTION:Venta de roses i llibres.
 
Tot seguit Taller Infantil de Cotó.
URI:https://www.elpont.cat/actualitat/agenda/festa-major-de-maig-de-rocafort-de-bages-sant-jordi.html
CLASS:PUBLIC
END:VEVENT
END:VCALENDAR
