BEGIN:VCALENDAR
VERSION:2.0
CALSCALE:GREGORIAN
PRODID:-//Diputació de Barcelona//DibaCMS//EN
BEGIN:VEVENT
UID:2703
DTSTAMP:20260422T121414
DTSTART:20180425T000000
DTEND:20180425T000000
SUMMARY:TALLER DE CUINA &quot;PLATS DE TEMPORADA&quot;
LOCATION:
METHOD:PUBLISH
X-WR-CALNAME:info.pont@elpont.cat
X-WR-TIMEZONE:Europe/Madrid
DESCRIPTION:Taller de cuina on aprendrem a elaborar plats amb ingredients de temporada, sorprenents i fàcils de fer. El taller anirà a càrrec de l'Associació Cultural i Gatronòmica Ceps i Manduca (St Vicenç de Castellet).
URI:https://www.elpont.cat/actualitat/agenda/taller-de-cuina-andquotplats-de-temporadaandquot.html
CLASS:PUBLIC
END:VEVENT
END:VCALENDAR
