BEGIN:VCALENDAR
VERSION:2.0
CALSCALE:GREGORIAN
PRODID:-//Diputació de Barcelona//DibaCMS//EN
BEGIN:VEVENT
UID:2704
DTSTAMP:20260422T202458
DTSTART:20180426T000000
DTEND:20180427T000000
SUMMARY:JORNADA DE PORTES OBERTES A LA LLAR D'INFANTS &quot;LA PAU&quot;
LOCATION:
METHOD:PUBLISH
X-WR-CALNAME:info.pont@elpont.cat
X-WR-TIMEZONE:Europe/Madrid
DESCRIPTION:La Llar d'Infants "La Pau" obrirà les seves portes a totes les famílies interessades en inscriure els seus infants per al proper curs 2018/2019 el dijous 26 i divendres 27 d'abril a la tarda.
URI:https://www.elpont.cat/actualitat/agenda/2704-jornada-de-portes-obertes-a-la-llar-dinfants-andquotla-pauandquot.html
CLASS:PUBLIC
END:VEVENT
END:VCALENDAR
