BEGIN:VCALENDAR
VERSION:2.0
CALSCALE:GREGORIAN
PRODID:-//Diputació de Barcelona//DibaCMS//EN
BEGIN:VEVENT
UID:2705
DTSTAMP:20260422T214126
DTSTART:20180428T000000
DTEND:20180506T000000
SUMMARY:FESTA MAJOR DE MAIG DE ROCAFORT DE BAGES - EXPOSICIÓ &quot;ABSTRACCIONS DE ZERLIK&quot;
LOCATION:
METHOD:PUBLISH
X-WR-CALNAME:info.pont@elpont.cat
X-WR-TIMEZONE:Europe/Madrid
DESCRIPTION:Els beneficis de les obres venudes aniran destinades íntegrament al Museu de Rocafort – Casal de Rocafort
URI:https://www.elpont.cat/actualitat/agenda/festa-major-de-maig-de-rocafort-de-bages-exposicio-andquotabstraccions-de-zerlikandquot.html
CLASS:PUBLIC
END:VEVENT
END:VCALENDAR
