BEGIN:VCALENDAR
VERSION:2.0
CALSCALE:GREGORIAN
PRODID:-//Diputació de Barcelona//DibaCMS//EN
BEGIN:VEVENT
UID:2706
DTSTAMP:20260424T120210
DTSTART:20180428T000000
DTEND:20180428T000000
SUMMARY:FESTA MAJOR DE MAIG DE ROCAFORT DE BAGES - ANIMACIÓ INFANTIL
LOCATION:
METHOD:PUBLISH
X-WR-CALNAME:info.pont@elpont.cat
X-WR-TIMEZONE:Europe/Madrid
DESCRIPTION:A càrrec de Súper Spaguetti
URI:https://www.elpont.cat/actualitat/agenda/festa-major-de-maig-de-rocafort-de-bages-animacio-infantil.html
CLASS:PUBLIC
END:VEVENT
END:VCALENDAR
