BEGIN:VCALENDAR
VERSION:2.0
CALSCALE:GREGORIAN
PRODID:-//Diputació de Barcelona//DibaCMS//EN
BEGIN:VEVENT
UID:2707
DTSTAMP:20260422T123329
DTSTART:20180428T000000
DTEND:20180428T000000
SUMMARY:FESTA MAJOR DE MAIG DE ROCAFORT DE BAGES - HORA DEL CONTE &quot;A L'AVENTURAAA!&quot;
LOCATION:
METHOD:PUBLISH
X-WR-CALNAME:info.pont@elpont.cat
X-WR-TIMEZONE:Europe/Madrid
DESCRIPTION:La història de la primera gallina astronauta ens portarà cap a les estrelles brillants i llampants.
 
També anirem a caçar un ós per boscos rius i coves.
 
I finalment viatjarem al Nil i al Mediterrani esquivant cocodrils, taurons i tempestes.
 
Tot plegat amb una bona dosis de participació, imaginació i sentit de l’humor.
 
Una hora del conte molt divertida a càrrec de Clara Gavaldà
URI:https://www.elpont.cat/actualitat/agenda/festa-major-de-maig-de-rocafort-de-bages-hora-del-conte-andquota-laventuraaaandquot.html
CLASS:PUBLIC
END:VEVENT
END:VCALENDAR
