BEGIN:VCALENDAR
VERSION:2.0
CALSCALE:GREGORIAN
PRODID:-//Diputació de Barcelona//DibaCMS//EN
BEGIN:VEVENT
UID:2709
DTSTAMP:20260422T163452
DTSTART:20180429T000000
DTEND:20180429T000000
SUMMARY:FESTA MAJOR DE MAIG DE ROCAFORT DE BAGES - XERRADA &quot;LES ORQUÍDIES AL NOSTRE ENTORN&quot;
LOCATION:
METHOD:PUBLISH
X-WR-CALNAME:info.pont@elpont.cat
X-WR-TIMEZONE:Europe/Madrid
DESCRIPTION:A càrrec de Josep Fabra.
 
Tot seguit, caminada per l’entorn per a observar les diferents especies. A càrrec de Jordi Calaf.
URI:https://www.elpont.cat/actualitat/agenda/festa-major-de-maig-de-rocafort-de-bages-xerrada-andquotles-orquidies-al-nostre-entornandquot.html
CLASS:PUBLIC
END:VEVENT
END:VCALENDAR
