BEGIN:VCALENDAR
VERSION:2.0
CALSCALE:GREGORIAN
PRODID:-//Diputació de Barcelona//DibaCMS//EN
BEGIN:VEVENT
UID:2710
DTSTAMP:20260422T175812
DTSTART:20180429T000000
DTEND:20180429T000000
SUMMARY:FESTA MAJOR DE MAIG DE ROCAFORT DE BAGES - FIDEUÀ POPULAR
LOCATION:
METHOD:PUBLISH
X-WR-CALNAME:info.pont@elpont.cat
X-WR-TIMEZONE:Europe/Madrid
DESCRIPTION:Cal portar-se el parament de casa.
URI:https://www.elpont.cat/actualitat/agenda/festa-major-de-maig-de-rocafort-de-bages-fideua-popular.html
CLASS:PUBLIC
END:VEVENT
END:VCALENDAR
