BEGIN:VCALENDAR
VERSION:2.0
CALSCALE:GREGORIAN
PRODID:-//Diputació de Barcelona//DibaCMS//EN
BEGIN:VEVENT
UID:2711
DTSTAMP:20260422T215042
DTSTART:20180430T000000
DTEND:20180430T000000
SUMMARY:FESTA MAJOR DE MAIG DE ROCAFORT DE BAGES - CONCERT D'AUTOPUT
LOCATION:
METHOD:PUBLISH
X-WR-CALNAME:info.pont@elpont.cat
X-WR-TIMEZONE:Europe/Madrid
DESCRIPTION:
URI:https://www.elpont.cat/actualitat/agenda/festa-major-de-maig-de-rocafort-de-bages-concert-dautoput.html
CLASS:PUBLIC
END:VEVENT
END:VCALENDAR
