BEGIN:VCALENDAR
VERSION:2.0
CALSCALE:GREGORIAN
PRODID:-//Diputació de Barcelona//DibaCMS//EN
BEGIN:VEVENT
UID:2713
DTSTAMP:20260422T145204
DTSTART:20180501T000000
DTEND:20180501T000000
SUMMARY:FESTA MAJOR DE MAIG DE ROCAFORT DE BAGES - ACTUACIÓ DEL CASAL CULTURAL DANSAIRES MANRESANS
LOCATION:
METHOD:PUBLISH
X-WR-CALNAME:info.pont@elpont.cat
X-WR-TIMEZONE:Europe/Madrid
DESCRIPTION:Especial atenció al tradicional Ballet de Déu de Rocafort.
URI:https://www.elpont.cat/actualitat/agenda/festa-major-de-maig-de-rocafort-de-bages-actuacio-del-casal-cultural-dansaires-manresans.html
CLASS:PUBLIC
END:VEVENT
END:VCALENDAR
