BEGIN:VCALENDAR
VERSION:2.0
CALSCALE:GREGORIAN
PRODID:-//Diputació de Barcelona//DibaCMS//EN
BEGIN:VEVENT
UID:2715
DTSTAMP:20260422T211907
DTSTART:20180501T000000
DTEND:20180501T000000
SUMMARY:FESTA MAJOR DE MAIG DE ROCAFORT DE BAGES - MOSTRA ETNOFOTOGRÀFICA D'ALGUNES FAÇANES DEL POBLE
LOCATION:
METHOD:PUBLISH
X-WR-CALNAME:info.pont@elpont.cat
X-WR-TIMEZONE:Europe/Madrid
DESCRIPTION:Rocafort: Passat i present: Façanes.
 
Mostra Etnofotogràfica d’algunes façanes que ens volen evocar a un passat proper, però que ja ben pocs recorden.
 
Es tracta de portar un tros d’aquest petit univers compartit entre tots, amb la intenció de recordar-nos els nostres orígens comuns.
URI:https://www.elpont.cat/actualitat/agenda/festa-major-de-maig-de-rocafort-de-bages-mostra-etnofotografica-dalgunes-facanes-del-poble.html
CLASS:PUBLIC
END:VEVENT
END:VCALENDAR
