BEGIN:VCALENDAR
VERSION:2.0
CALSCALE:GREGORIAN
PRODID:-//Diputació de Barcelona//DibaCMS//EN
BEGIN:VEVENT
UID:2716
DTSTAMP:20260423T040457
DTSTART:20180502T000000
DTEND:20180531T000000
SUMMARY:EXPOSICIÓ DE FOTOGRAFIES &quot;PAISATGES&quot;
LOCATION:
METHOD:PUBLISH
X-WR-CALNAME:info.pont@elpont.cat
X-WR-TIMEZONE:Europe/Madrid
DESCRIPTION:Un dels trets que millor defineix Catalunya és la varietat dels seus paisatges, desl secans als boscos frescals, del mar als cims pirinencs, de l'ermita dalt d'un turó a les catedrals. I d'entre ells, pocs n'hi ha tan atractius com la silueta retallada de Montserrat observada des del Bages.
 
En aquesta nova exposició de fotografies de gran format de Joan Martínez aboca tots els moments d'observació i estudi dels paisatges, dels seus canvis amb les estacions, la llum, la metereologia, el cabal de l'aigua o la florida.
 
La podreu visitar en horari de biblioteca del 2 al 31 de maig.
URI:https://www.elpont.cat/actualitat/agenda/exposicio-de-fotografies-andquotpaisatgesandquot.html
CLASS:PUBLIC
END:VEVENT
END:VCALENDAR
