BEGIN:VCALENDAR
VERSION:2.0
CALSCALE:GREGORIAN
PRODID:-//Diputació de Barcelona//DibaCMS//EN
BEGIN:VEVENT
UID:2717
DTSTAMP:20260422T173530
DTSTART:20180503T000000
DTEND:20180511T000000
SUMMARY:PREINSCRIPCIONS PER AL CURS 2018/2019 A LA LLAR D'INFANTS &quot;LA PAU&quot;
LOCATION:
METHOD:PUBLISH
X-WR-CALNAME:info.pont@elpont.cat
X-WR-TIMEZONE:Europe/Madrid
DESCRIPTION:
URI:https://www.elpont.cat/actualitat/agenda/2717-preinscripcions-per-al-curs-20182019-a-la-llar-dinfants-andquotla-pauandquot.html
CLASS:PUBLIC
END:VEVENT
END:VCALENDAR
