BEGIN:VCALENDAR
VERSION:2.0
CALSCALE:GREGORIAN
PRODID:-//Diputació de Barcelona//DibaCMS//EN
BEGIN:VEVENT
UID:2720
DTSTAMP:20260422T185123
DTSTART:20180509T000000
DTEND:20180509T000000
SUMMARY:TERTÚLIA LITERÀRIA AMB RAMON SOLSONA AUTOR DEL LLIBRE &quot;ALLÒ QUE VA PASSAR A CARDÓS&quot;
LOCATION:
METHOD:PUBLISH
X-WR-CALNAME:info.pont@elpont.cat
X-WR-TIMEZONE:Europe/Madrid
DESCRIPTION:Tertúlia literària amb l'autor Ramon Solsona sobre la premiada novel·la "Allà que va passar a Cardós".
 
L'acte s'inclou dins "Lletres en viu" de la Institució de les Lletres Catalanes.
URI:https://www.elpont.cat/actualitat/agenda/tertulia-literaria-amb-ramon-solsona-autor-del-llibre-andquotallo-que-va-passar-a-cardosandquot.html
CLASS:PUBLIC
END:VEVENT
END:VCALENDAR
