BEGIN:VCALENDAR
VERSION:2.0
CALSCALE:GREGORIAN
PRODID:-//Diputació de Barcelona//DibaCMS//EN
BEGIN:VEVENT
UID:2721
DTSTAMP:20260422T160944
DTSTART:20180512T000000
DTEND:20180512T000000
SUMMARY:L'HORA DEL CONTE EN ANGLÈS &quot;THE GENUINE LITTLE CHEF FUN EASY&quot;
LOCATION:
METHOD:PUBLISH
X-WR-CALNAME:info.pont@elpont.cat
X-WR-TIMEZONE:Europe/Madrid
DESCRIPTION:Cuinem en anglès !
 
La Biblioteca Municipal en col·laboració amb Kids & Us us ofereixen un taller de cuina en família d'allò més llaminer: receptes senzilles i divertides per a nes i nenes de 3 a 10 anys.
URI:https://www.elpont.cat/actualitat/agenda/lhora-del-conte-en-angles-andquotthe-genuine-little-chef-fun-easyandquot.html
CLASS:PUBLIC
END:VEVENT
END:VCALENDAR
