BEGIN:VCALENDAR
VERSION:2.0
CALSCALE:GREGORIAN
PRODID:-//Diputació de Barcelona//DibaCMS//EN
BEGIN:VEVENT
UID:2723
DTSTAMP:20260422T230017
DTSTART:20180517T000000
DTEND:20180517T000000
SUMMARY:ELS 3 PORQUETS: A LA RECERCA D'UNA NOVA LLAR
LOCATION:
METHOD:PUBLISH
X-WR-CALNAME:info.pont@elpont.cat
X-WR-TIMEZONE:Europe/Madrid
DESCRIPTION:Taller en família per a infants entre 5 i 7 anys on es construiran les cases dels coneguts personatges del conte aprenent els valors de la bioconstrucció, la sostenibilitat, la cooperació i el respecte amb el medi ambient.
 
Dia Mundial del Reciclatge.
URI:https://www.elpont.cat/actualitat/agenda/els-3-porquets-a-la-recerca-duna-nova-llar.html
CLASS:PUBLIC
END:VEVENT
END:VCALENDAR
