BEGIN:VCALENDAR
VERSION:2.0
CALSCALE:GREGORIAN
PRODID:-//Diputació de Barcelona//DibaCMS//EN
BEGIN:VEVENT
UID:2725
DTSTAMP:20260422T174100
DTSTART:20180518T000000
DTEND:20180518T000000
SUMMARY:TALLER SOBRE L'ELABORACIÓ ARTESANAL DEL PA
LOCATION:
METHOD:PUBLISH
X-WR-CALNAME:info.pont@elpont.cat
X-WR-TIMEZONE:Europe/Madrid
DESCRIPTION:Taller on aprendrem quins són els ingredients bàsics i els passos necessaris a seguir per a l'elaboració artesanal del pa a casa nostra.
 
El taller anirà a càrrec de Toni Castro d'Econaturalis!
URI:https://www.elpont.cat/actualitat/agenda/taller-sobre-lelaboracio-artesanal-del-pa.html
CLASS:PUBLIC
END:VEVENT
END:VCALENDAR
