BEGIN:VCALENDAR
VERSION:2.0
CALSCALE:GREGORIAN
PRODID:-//Diputació de Barcelona//DibaCMS//EN
BEGIN:VEVENT
UID:2726
DTSTAMP:20260422T185523
DTSTART:20180519T000000
DTEND:20180519T000000
SUMMARY:SORTIDA FAMILIAR INCLOSA DINS LA SETMANA EUROPEA DELS GEOPARCS I EL DIA INTERNACIONAL DE LES FAMÍLIES
LOCATION:
METHOD:PUBLISH
X-WR-CALNAME:info.pont@elpont.cat
X-WR-TIMEZONE:Europe/Madrid
DESCRIPTION:Sabíeu que fa uns 40 milions d'anys el Bages estava cobert per un mar que va desaparèixer quan es van formar els Pirineus??
 
O que aquí es troben elements geològics únics en el món??
 
Vine en família a descobrir els tresors geològics que amaga el nostre poble de la mà de Ferran Climent, tècnic del Geoparc de la Catalunya Central.
 
Aquesta sortida s'inclou dins les activitats de la Setmana Europea dels Geoparcs i el Dia Internacional de Les Famílies!
URI:https://www.elpont.cat/actualitat/agenda/sortida-familiar-inclosa-dins-la-setmana-europea-dels-geoparcs-i-el-dia-internacional-de-les-families.html
CLASS:PUBLIC
END:VEVENT
END:VCALENDAR
