BEGIN:VCALENDAR
VERSION:2.0
CALSCALE:GREGORIAN
PRODID:-//Diputació de Barcelona//DibaCMS//EN
BEGIN:VEVENT
UID:2727
DTSTAMP:20260423T011821
DTSTART:20180523T000000
DTEND:20180523T000000
SUMMARY:TALLER D'INICIACIÓ AL LETTERING - SEGONA PART
LOCATION:
METHOD:PUBLISH
X-WR-CALNAME:info.pont@elpont.cat
X-WR-TIMEZONE:Europe/Madrid
DESCRIPTION:Taller on aprendrem les tècniques bàsiques d'aquest art de dibuixar amb lletres.
 
A càrrec de SaraCuadros de Sara&Bugs.
URI:https://www.elpont.cat/actualitat/agenda/taller-diniciacio-al-lettering-segona-part.html
CLASS:PUBLIC
END:VEVENT
END:VCALENDAR
