BEGIN:VCALENDAR
VERSION:2.0
CALSCALE:GREGORIAN
PRODID:-//Diputació de Barcelona//DibaCMS//EN
BEGIN:VEVENT
UID:2728
DTSTAMP:20260423T011641
DTSTART:20180525T000000
DTEND:20180525T000000
SUMMARY:CONCENTRACIÓ CONTRA ELS ACTES VANDÀLICS
LOCATION:
METHOD:PUBLISH
X-WR-CALNAME:info.pont@elpont.cat
X-WR-TIMEZONE:Europe/Madrid
DESCRIPTION:Per rebutjar els actes vandàlics al Pont de Vilomara i Rocafort.
 
Els nostres comerços fan poble !
URI:https://www.elpont.cat/actualitat/agenda/concentracio-contra-els-actes-vandalics.html
CLASS:PUBLIC
END:VEVENT
END:VCALENDAR
