BEGIN:VCALENDAR
VERSION:2.0
CALSCALE:GREGORIAN
PRODID:-//Diputació de Barcelona//DibaCMS//EN
BEGIN:VEVENT
UID:2729
DTSTAMP:20260422T215154
DTSTART:20180530T000000
DTEND:20180530T000000
SUMMARY:TALLER DE MÀGIA PER A INFANTS DE 10 A 12 ANYS
LOCATION:
METHOD:PUBLISH
X-WR-CALNAME:info.pont@elpont.cat
X-WR-TIMEZONE:Europe/Madrid
DESCRIPTION:Vols aprendre a fer trucs de màgia?
 
Taller introductori on es treballaran els conceptes bàsics a tenir en compte per portar a terme jocs de màgia.
 
Taller per a infants d'entre 10 i 12 anys.
URI:https://www.elpont.cat/actualitat/agenda/taller-de-magia-per-a-infants-de-10-a-12-anys.html
CLASS:PUBLIC
END:VEVENT
END:VCALENDAR
