BEGIN:VCALENDAR
VERSION:2.0
CALSCALE:GREGORIAN
PRODID:-//Diputació de Barcelona//DibaCMS//EN
BEGIN:VEVENT
UID:2730
DTSTAMP:20260422T213417
DTSTART:20180531T000000
DTEND:20180531T000000
SUMMARY:BALL AMB JORDI
LOCATION:
METHOD:PUBLISH
X-WR-CALNAME:info.pont@elpont.cat
X-WR-TIMEZONE:Europe/Madrid
DESCRIPTION:
URI:https://www.elpont.cat/actualitat/agenda/ball-amb-jordi.html
CLASS:PUBLIC
END:VEVENT
END:VCALENDAR
