BEGIN:VCALENDAR
VERSION:2.0
CALSCALE:GREGORIAN
PRODID:-//Diputació de Barcelona//DibaCMS//EN
BEGIN:VEVENT
UID:2732
DTSTAMP:20260422T212304
DTSTART:20180602T000000
DTEND:20180602T000000
SUMMARY:XXVIII TROBADA DE GEGANTS AL PONT DE VILOMARA I ROCAFORT
LOCATION:
METHOD:PUBLISH
X-WR-CALNAME:info.pont@elpont.cat
X-WR-TIMEZONE:Europe/Madrid
DESCRIPTION:Comptarà amb diferents colles convidades.
URI:https://www.elpont.cat/actualitat/agenda/xxviii-trobada-de-gegants-al-pont-de-vilomara-i-rocafort.html
CLASS:PUBLIC
END:VEVENT
END:VCALENDAR
