BEGIN:VCALENDAR
VERSION:2.0
CALSCALE:GREGORIAN
PRODID:-//Diputació de Barcelona//DibaCMS//EN
BEGIN:VEVENT
UID:2733
DTSTAMP:20260422T190112
DTSTART:20180602T000000
DTEND:20180630T000000
SUMMARY:TARDES DE JOCS A LA BIBLIOTECA
LOCATION:
METHOD:PUBLISH
X-WR-CALNAME:info.pont@elpont.cat
X-WR-TIMEZONE:Europe/Madrid
DESCRIPTION:Vine amb la família o els amics a passar una bona estona i gaudir d'un espai ple de jocs de taula, enigmes i endevinalles.
URI:https://www.elpont.cat/actualitat/agenda/tardes-de-jocs-a-la-biblioteca.html
CLASS:PUBLIC
END:VEVENT
END:VCALENDAR
