BEGIN:VCALENDAR
VERSION:2.0
CALSCALE:GREGORIAN
PRODID:-//Diputació de Barcelona//DibaCMS//EN
BEGIN:VEVENT
UID:2734
DTSTAMP:20260422T202420
DTSTART:20180602T000000
DTEND:20180602T000000
SUMMARY:RUTA DE LES TINES A PEU DE VINYA
LOCATION:
METHOD:PUBLISH
X-WR-CALNAME:info.pont@elpont.cat
X-WR-TIMEZONE:Europe/Madrid
DESCRIPTION:A l’entorn privilegiat del riu Llobregat i la riera de Sant Esteve, entre camps de conreu i boscos de pi blanc, antigues feixes de paret de pedra seca acompanyen un dels llegats vitivinícoles més desconeguts i espectaculars de Catalunya, les tines a peu de vinya, que descobrirem amb la lectura de fragments de novel·les ambientades en el món de vi i un tast de vins de la DO Pla de Bages i de productes locals en una ruta de 6Km sense dificultat.
 
Activitat adreçada a joves i adults.
 
L’activitat s’emmarca dins el programa de la Setmana de Geoparcs Europeus 2018
URI:https://www.elpont.cat/actualitat/agenda/ruta-de-les-tines-a-peu-de-vinya.html
CLASS:PUBLIC
END:VEVENT
END:VCALENDAR
