BEGIN:VCALENDAR
VERSION:2.0
CALSCALE:GREGORIAN
PRODID:-//Diputació de Barcelona//DibaCMS//EN
BEGIN:VEVENT
UID:2735
DTSTAMP:20260422T224904
DTSTART:20180606T000000
DTEND:20180606T000000
SUMMARY:TERTÚLIA LITERÀRIA SOBRE LA NOVELA &quot;ADREÇA DESCONEGUDA&quot;
LOCATION:
METHOD:PUBLISH
X-WR-CALNAME:info.pont@elpont.cat
X-WR-TIMEZONE:Europe/Madrid
DESCRIPTION:Tertúlia literària sobre la novel·la "Adreça desconeguda" de Kressmann Taylor.
URI:https://www.elpont.cat/actualitat/agenda/tertulia-literaria-sobre-la-novela-andquotadreca-desconegudaandquot.html
CLASS:PUBLIC
END:VEVENT
END:VCALENDAR
