BEGIN:VCALENDAR
VERSION:2.0
CALSCALE:GREGORIAN
PRODID:-//Diputació de Barcelona//DibaCMS//EN
BEGIN:VEVENT
UID:2736
DTSTAMP:20260423T010301
DTSTART:20180609T000000
DTEND:20180609T000000
SUMMARY:TALLER &quot;CAPUTXETA POP&quot;
LOCATION:
METHOD:PUBLISH
X-WR-CALNAME:info.pont@elpont.cat
X-WR-TIMEZONE:Europe/Madrid
DESCRIPTION:Confecció d’un llibret pop-up partint del conte de “La caputxeta”.
 
Serem capaços de capgirar la història i el destí dels nostres personatges?
 
Taller a càrrec de la il·lustradora Mercè Galí.
URI:https://www.elpont.cat/actualitat/agenda/taller-andquotcaputxeta-popandquot.html
CLASS:PUBLIC
END:VEVENT
END:VCALENDAR
