BEGIN:VCALENDAR
VERSION:2.0
CALSCALE:GREGORIAN
PRODID:-//Diputació de Barcelona//DibaCMS//EN
BEGIN:VEVENT
UID:2737
DTSTAMP:20260423T031802
DTSTART:20180614T000000
DTEND:20180614T000000
SUMMARY:PROGRAMA GENT GRAN ACTIVA &quot;BALL AMB JOAN&quot;
LOCATION:
METHOD:PUBLISH
X-WR-CALNAME:info.pont@elpont.cat
X-WR-TIMEZONE:Europe/Madrid
DESCRIPTION:
URI:https://www.elpont.cat/actualitat/agenda/2737-programa-gent-gran-activa-andquotball-amb-joanandquot.html
CLASS:PUBLIC
END:VEVENT
END:VCALENDAR
